Package: crisprScore Version: 1.12.0 Command: /home/biocbuild/R/R/bin/R CMD build --keep-empty-dirs --no-resave-data crisprScore StartedAt: 2025-10-09 23:55:15 -0000 (Thu, 09 Oct 2025) EndedAt: 2025-10-09 23:55:50 -0000 (Thu, 09 Oct 2025) EllapsedTime: 35.0 seconds RetCode: 0 Status: OK PackageFile: crisprScore_1.12.0.tar.gz PackageFileSize: 4.572 MiB