Package: crisprDesign Version: 1.10.0 Command: /home/biocbuild/bbs-3.21-bioc/R/bin/R CMD build --keep-empty-dirs --no-resave-data crisprDesign StartedAt: 2025-10-15 16:57:29 -0400 (Wed, 15 Oct 2025) EndedAt: 2025-10-15 16:59:05 -0400 (Wed, 15 Oct 2025) EllapsedTime: 95.1 seconds RetCode: 0 Status: OK PackageFile: crisprDesign_1.10.0.tar.gz PackageFileSize: 2.609 MiB