Package: crisprDesign Version: 1.12.0 Command: /Library/Frameworks/R.framework/Resources/bin/R CMD INSTALL crisprDesign StartedAt: 2025-10-31 15:47:31 -0400 (Fri, 31 Oct 2025) EndedAt: 2025-10-31 15:48:40 -0400 (Fri, 31 Oct 2025) EllapsedTime: 69.6 seconds RetCode: 0 Status: OK