Package: crisprDesign Version: 1.12.0 Command: rm -rf crisprDesign.buildbin-libdir && mkdir crisprDesign.buildbin-libdir && /Users/biocbuild/BBS/utils/build-universal.sh crisprDesign_1.12.0.tar.gz /Library/Frameworks/R.framework/Resources/bin/R crisprDesign.buildbin-libdir StartedAt: 2025-11-01 01:29:07 -0400 (Sat, 01 Nov 2025) EndedAt: 2025-11-01 01:30:20 -0400 (Sat, 01 Nov 2025) EllapsedTime: 73.8 seconds RetCode: 0 Status: OK PackageFile: crisprDesign_1.12.0.tgz PackageFileSize: 3.59 MiB