Package: crisprDesign Version: 1.10.0 Command: /home/biocbuild/R/R/bin/R CMD INSTALL crisprDesign StartedAt: 2025-10-06 20:58:35 -0000 (Mon, 06 Oct 2025) EndedAt: 2025-10-06 20:59:48 -0000 (Mon, 06 Oct 2025) EllapsedTime: 73.2 seconds RetCode: 0 Status: OK