Package: crisprDesign Version: 1.10.0 Command: /home/biocbuild/R/R/bin/R CMD build --keep-empty-dirs --no-resave-data crisprDesign StartedAt: 2025-10-06 23:58:21 -0000 (Mon, 06 Oct 2025) EndedAt: 2025-10-07 00:00:40 -0000 (Tue, 07 Oct 2025) EllapsedTime: 139.1 seconds RetCode: 0 Status: OK PackageFile: crisprDesign_1.10.0.tar.gz PackageFileSize: 2.675 MiB