Package: crisprBwa Version: 1.14.0 Command: /home/biocbuild/bbs-3.22-bioc/R/bin/R CMD INSTALL crisprBwa StartedAt: 2025-11-14 15:49:19 -0500 (Fri, 14 Nov 2025) EndedAt: 2025-11-14 15:49:51 -0500 (Fri, 14 Nov 2025) EllapsedTime: 31.7 seconds RetCode: 0 Status: OK