Package: crisprBwa Version: 1.14.0 Command: /home/biocbuild/bbs-3.22-bioc/R/bin/R CMD build --keep-empty-dirs --no-resave-data --md5 crisprBwa StartedAt: 2025-11-16 17:10:00 -0500 (Sun, 16 Nov 2025) EndedAt: 2025-11-16 17:10:49 -0500 (Sun, 16 Nov 2025) EllapsedTime: 49.0 seconds RetCode: 0 Status: OK PackageFile: crisprBwa_1.14.0.tar.gz PackageFileSize: 360.4 KiB