Package: crisprBowtie Version: 1.14.0 Command: /home/biocbuild/bbs-3.22-bioc/R/bin/R CMD INSTALL crisprBowtie StartedAt: 2025-11-17 17:43:28 -0500 (Mon, 17 Nov 2025) EndedAt: 2025-11-17 17:43:58 -0500 (Mon, 17 Nov 2025) EllapsedTime: 30.6 seconds RetCode: 0 Status: OK