Package: crisprBowtie Version: 1.14.0 Command: /home/biocbuild/bbs-3.22-bioc/R/bin/R CMD build --keep-empty-dirs --no-resave-data --md5 crisprBowtie StartedAt: 2025-11-17 20:23:05 -0500 (Mon, 17 Nov 2025) EndedAt: 2025-11-17 20:23:58 -0500 (Mon, 17 Nov 2025) EllapsedTime: 52.1 seconds RetCode: 0 Status: OK PackageFile: crisprBowtie_1.14.0.tar.gz PackageFileSize: 320.7 KiB