Package: crisprBase Version: 1.14.0 Command: /home/biocbuild/bbs-3.22-bioc/R/bin/R CMD check --install=check:crisprBase.install-out.txt --library=/home/biocbuild/bbs-3.22-bioc/R/site-library --timings crisprBase_1.14.0.tar.gz StartedAt: 2025-11-11 22:35:24 -0500 (Tue, 11 Nov 2025) EndedAt: 2025-11-11 22:37:00 -0500 (Tue, 11 Nov 2025) EllapsedTime: 96.1 seconds RetCode: 0 Status: WARNINGS CheckDir: crisprBase.Rcheck Warnings: 1