Package: crisprBase Version: 1.12.0 Command: /home/biocbuild/bbs-3.21-bioc/R/bin/R CMD INSTALL crisprBase StartedAt: 2025-10-12 15:14:57 -0400 (Sun, 12 Oct 2025) EndedAt: 2025-10-12 15:15:12 -0400 (Sun, 12 Oct 2025) EllapsedTime: 15.4 seconds RetCode: 0 Status: OK