Package: crisprBase Version: 1.12.0 Command: /home/biocbuild/bbs-3.21-bioc/R/bin/R CMD build --keep-empty-dirs --no-resave-data crisprBase StartedAt: 2025-10-12 16:57:35 -0400 (Sun, 12 Oct 2025) EndedAt: 2025-10-12 16:57:58 -0400 (Sun, 12 Oct 2025) EllapsedTime: 23.0 seconds RetCode: 0 Status: OK PackageFile: crisprBase_1.12.0.tar.gz PackageFileSize: 1.737 MiB