Package: crisprBase Version: 1.12.0 Command: /Library/Frameworks/R.framework/Resources/bin/R CMD INSTALL crisprBase StartedAt: 2025-10-09 16:00:45 -0400 (Thu, 09 Oct 2025) EndedAt: 2025-10-09 16:01:03 -0400 (Thu, 09 Oct 2025) EllapsedTime: 18.6 seconds RetCode: 0 Status: OK