Package: crisprBase Version: 1.12.0 Command: /Library/Frameworks/R.framework/Resources/bin/R CMD build --keep-empty-dirs --no-resave-data crisprBase StartedAt: 2025-10-09 22:18:48 -0400 (Thu, 09 Oct 2025) EndedAt: 2025-10-09 22:19:17 -0400 (Thu, 09 Oct 2025) EllapsedTime: 29.7 seconds RetCode: 0 Status: OK PackageFile: crisprBase_1.12.0.tar.gz PackageFileSize: 1.737 MiB