Package: crisprBase Version: 1.12.0 Command: rm -rf crisprBase.buildbin-libdir && mkdir crisprBase.buildbin-libdir && /Users/biocbuild/BBS/utils/build-universal.sh crisprBase_1.12.0.tar.gz /Library/Frameworks/R.framework/Resources/bin/R crisprBase.buildbin-libdir StartedAt: 2025-10-11 19:40:52 -0400 (Sat, 11 Oct 2025) EndedAt: 2025-10-11 19:41:15 -0400 (Sat, 11 Oct 2025) EllapsedTime: 22.4 seconds RetCode: 0 Status: OK PackageFile: crisprBase_1.12.0.tgz PackageFileSize: 1.523 MiB