Package: cpvSNP Version: 1.42.0 Command: /home/biocbuild/bbs-3.22-bioc/R/bin/R CMD INSTALL cpvSNP StartedAt: 2025-11-06 15:43:39 -0500 (Thu, 06 Nov 2025) EndedAt: 2025-11-06 15:44:24 -0500 (Thu, 06 Nov 2025) EllapsedTime: 44.9 seconds RetCode: 0 Status: OK