Package: covRNA Version: 1.34.0 Command: /home/biocbuild/R/R/bin/R CMD build --keep-empty-dirs --no-resave-data covRNA StartedAt: 2025-10-13 23:54:01 -0000 (Mon, 13 Oct 2025) EndedAt: 2025-10-13 23:55:14 -0000 (Mon, 13 Oct 2025) EllapsedTime: 73.0 seconds RetCode: 0 Status: OK PackageFile: covRNA_1.34.0.tar.gz PackageFileSize: 572.3 KiB