Package: covRNA Version: 1.36.0 Command: /Library/Frameworks/R.framework/Resources/bin/R CMD build --keep-empty-dirs --no-resave-data covRNA StartedAt: 2025-10-31 16:06:12 -0400 (Fri, 31 Oct 2025) EndedAt: 2025-10-31 16:06:36 -0400 (Fri, 31 Oct 2025) EllapsedTime: 24.3 seconds RetCode: 0 Status: OK PackageFile: covRNA_1.36.0.tar.gz PackageFileSize: 555.1 KiB