Package: covEB Version: 1.36.0 Command: /home/biocbuild/bbs-3.22-bioc/R/bin/R CMD INSTALL covEB StartedAt: 2025-11-11 15:16:49 -0500 (Tue, 11 Nov 2025) EndedAt: 2025-11-11 15:16:55 -0500 (Tue, 11 Nov 2025) EllapsedTime: 6.4 seconds RetCode: 0 Status: OK