Package: covEB Version: 1.34.0 Command: /home/biocbuild/R/R/bin/R CMD INSTALL covEB StartedAt: 2025-10-13 20:24:12 -0000 (Mon, 13 Oct 2025) EndedAt: 2025-10-13 20:24:21 -0000 (Mon, 13 Oct 2025) EllapsedTime: 9.3 seconds RetCode: 0 Status: OK