Package: countsimQC Version: 1.28.0 Command: /home/biocbuild/bbs-3.22-bioc/R/bin/R CMD check --install=check:countsimQC.install-out.txt --library=/home/biocbuild/bbs-3.22-bioc/R/site-library --timings countsimQC_1.28.0.tar.gz StartedAt: 2025-11-13 22:32:12 -0500 (Thu, 13 Nov 2025) EndedAt: 2025-11-13 22:41:39 -0500 (Thu, 13 Nov 2025) EllapsedTime: 567.4 seconds RetCode: 0 Status: OK CheckDir: countsimQC.Rcheck Warnings: 0