Package: countsimQC Version: 1.28.0 Command: /home/biocbuild/bbs-3.22-bioc/R/bin/R CMD build --keep-empty-dirs --no-resave-data --md5 countsimQC StartedAt: 2025-11-11 17:06:04 -0500 (Tue, 11 Nov 2025) EndedAt: 2025-11-11 17:08:24 -0500 (Tue, 11 Nov 2025) EllapsedTime: 140.1 seconds RetCode: 0 Status: OK PackageFile: countsimQC_1.28.0.tar.gz PackageFileSize: 442.1 KiB