Package: countsimQC Version: 1.26.0 Command: /home/biocbuild/bbs-3.21-bioc/R/bin/R CMD INSTALL countsimQC StartedAt: 2025-10-15 15:27:41 -0400 (Wed, 15 Oct 2025) EndedAt: 2025-10-15 15:28:13 -0400 (Wed, 15 Oct 2025) EllapsedTime: 32.1 seconds RetCode: 0 Status: OK