Package: countsimQC Version: 1.26.0 Command: /home/biocbuild/R/R/bin/R CMD INSTALL countsimQC StartedAt: 2025-09-25 20:44:01 -0000 (Thu, 25 Sep 2025) EndedAt: 2025-09-25 20:44:45 -0000 (Thu, 25 Sep 2025) EllapsedTime: 43.8 seconds RetCode: 0 Status: OK