Package: countsimQC Version: 1.26.0 Command: /home/biocbuild/R/R/bin/R CMD build --keep-empty-dirs --no-resave-data countsimQC StartedAt: 2025-09-26 00:01:39 -0000 (Fri, 26 Sep 2025) EndedAt: 2025-09-26 00:04:01 -0000 (Fri, 26 Sep 2025) EllapsedTime: 142.0 seconds RetCode: 0 Status: OK PackageFile: countsimQC_1.26.0.tar.gz PackageFileSize: 441 KiB