Package: countsimQC Version: 1.26.0 Command: /Library/Frameworks/R.framework/Resources/bin/R CMD INSTALL countsimQC StartedAt: 2025-10-13 16:22:17 -0400 (Mon, 13 Oct 2025) EndedAt: 2025-10-13 16:22:54 -0400 (Mon, 13 Oct 2025) EllapsedTime: 37.2 seconds RetCode: 0 Status: OK