Package: countsimQC Version: 1.26.0 Command: /Library/Frameworks/R.framework/Resources/bin/R CMD build --keep-empty-dirs --no-resave-data countsimQC StartedAt: 2025-10-13 22:02:52 -0400 (Mon, 13 Oct 2025) EndedAt: 2025-10-13 22:05:40 -0400 (Mon, 13 Oct 2025) EllapsedTime: 168.5 seconds RetCode: 0 Status: OK PackageFile: countsimQC_1.26.0.tar.gz PackageFileSize: 440.4 KiB