Package: cosmosR Version: 1.18.0 Command: /home/biocbuild/bbs-3.22-bioc/R/bin/R CMD check --install=check:cosmosR.install-out.txt --library=/home/biocbuild/bbs-3.22-bioc/R/site-library --timings cosmosR_1.18.0.tar.gz StartedAt: 2025-11-13 22:31:42 -0500 (Thu, 13 Nov 2025) EndedAt: 2025-11-13 22:33:07 -0500 (Thu, 13 Nov 2025) EllapsedTime: 85.1 seconds RetCode: 0 Status: OK CheckDir: cosmosR.Rcheck Warnings: 0