Package: cosmosR Version: 1.16.0 Command: /home/biocbuild/bbs-3.21-bioc/R/bin/R CMD INSTALL cosmosR StartedAt: 2025-10-15 15:28:42 -0400 (Wed, 15 Oct 2025) EndedAt: 2025-10-15 15:28:50 -0400 (Wed, 15 Oct 2025) EllapsedTime: 7.5 seconds RetCode: 0 Status: OK