Package: cosmosR Version: 1.16.0 Command: /home/biocbuild/bbs-3.21-bioc/R/bin/R CMD build --keep-empty-dirs --no-resave-data cosmosR StartedAt: 2025-10-15 16:55:49 -0400 (Wed, 15 Oct 2025) EndedAt: 2025-10-15 16:56:06 -0400 (Wed, 15 Oct 2025) EllapsedTime: 17.0 seconds RetCode: 0 Status: OK PackageFile: cosmosR_1.16.0.tar.gz PackageFileSize: 3.365 MiB