Package: cosmosR Version: 1.18.0 Command: /Library/Frameworks/R.framework/Resources/bin/R CMD INSTALL cosmosR StartedAt: 2025-11-02 15:33:22 -0500 (Sun, 02 Nov 2025) EndedAt: 2025-11-02 15:33:34 -0500 (Sun, 02 Nov 2025) EllapsedTime: 12.1 seconds RetCode: 0 Status: OK