Package: cosmosR Version: 1.18.0 Command: /Library/Frameworks/R.framework/Resources/bin/R CMD build --keep-empty-dirs --no-resave-data cosmosR StartedAt: 2025-11-02 16:39:30 -0500 (Sun, 02 Nov 2025) EndedAt: 2025-11-02 16:39:54 -0500 (Sun, 02 Nov 2025) EllapsedTime: 23.9 seconds RetCode: 0 Status: OK PackageFile: cosmosR_1.18.0.tar.gz PackageFileSize: 3.365 MiB