Package: cosmosR Version: 1.18.0 Command: rm -rf cosmosR.buildbin-libdir && mkdir cosmosR.buildbin-libdir && /Users/biocbuild/BBS/utils/build-universal.sh cosmosR_1.18.0.tar.gz /Library/Frameworks/R.framework/Resources/bin/R cosmosR.buildbin-libdir StartedAt: 2025-11-01 01:28:54 -0400 (Sat, 01 Nov 2025) EndedAt: 2025-11-01 01:29:07 -0400 (Sat, 01 Nov 2025) EllapsedTime: 12.8 seconds RetCode: 0 Status: OK PackageFile: cosmosR_1.18.0.tgz PackageFileSize: 3.448 MiB