Package: cosmiq Version: 1.44.0 Command: /home/biocbuild/bbs-3.22-bioc/R/bin/R CMD check --install=check:cosmiq.install-out.txt --library=/home/biocbuild/bbs-3.22-bioc/R/site-library --timings cosmiq_1.44.0.tar.gz StartedAt: 2025-11-13 22:31:37 -0500 (Thu, 13 Nov 2025) EndedAt: 2025-11-13 22:38:57 -0500 (Thu, 13 Nov 2025) EllapsedTime: 440.4 seconds RetCode: 0 Status: OK CheckDir: cosmiq.Rcheck Warnings: 0