Package: cosmiq Version: 1.44.0 Command: /home/biocbuild/bbs-3.22-bioc/R/bin/R CMD build --keep-empty-dirs --no-resave-data --md5 cosmiq StartedAt: 2025-11-11 17:05:45 -0500 (Tue, 11 Nov 2025) EndedAt: 2025-11-11 17:08:08 -0500 (Tue, 11 Nov 2025) EllapsedTime: 143.1 seconds RetCode: 0 Status: OK PackageFile: cosmiq_1.44.0.tar.gz PackageFileSize: 542.7 KiB