Package: cosmiq Version: 1.42.0 Command: /home/biocbuild/bbs-3.21-bioc/R/bin/R CMD INSTALL cosmiq StartedAt: 2025-10-15 15:40:47 -0400 (Wed, 15 Oct 2025) EndedAt: 2025-10-15 15:41:28 -0400 (Wed, 15 Oct 2025) EllapsedTime: 41.0 seconds RetCode: 0 Status: OK