Package: cosmiq Version: 1.42.0 Command: /home/biocbuild/R/R/bin/R CMD INSTALL cosmiq StartedAt: 2025-09-29 21:01:42 -0000 (Mon, 29 Sep 2025) EndedAt: 2025-09-29 21:02:40 -0000 (Mon, 29 Sep 2025) EllapsedTime: 58.8 seconds RetCode: 0 Status: OK