Package: cosmiq Version: 1.42.0 Command: /home/biocbuild/R/R/bin/R CMD build --keep-empty-dirs --no-resave-data cosmiq StartedAt: 2025-09-29 23:53:14 -0000 (Mon, 29 Sep 2025) EndedAt: 2025-09-29 23:56:41 -0000 (Mon, 29 Sep 2025) EllapsedTime: 207.1 seconds RetCode: 0 Status: OK PackageFile: cosmiq_1.42.0.tar.gz PackageFileSize: 535.1 KiB