Package: cosmiq Version: 1.42.0 Command: rm -rf cosmiq.buildbin-libdir && mkdir cosmiq.buildbin-libdir && /Users/biocbuild/BBS/utils/build-universal.sh cosmiq_1.42.0.tar.gz /Library/Frameworks/R.framework/Resources/bin/R cosmiq.buildbin-libdir StartedAt: 2025-10-15 18:00:49 -0400 (Wed, 15 Oct 2025) EndedAt: 2025-10-15 18:01:44 -0400 (Wed, 15 Oct 2025) EllapsedTime: 54.3 seconds RetCode: 0 Status: OK PackageFile: cosmiq_1.42.0.tgz PackageFileSize: 291.9 KiB