Package: coseq Version: 1.34.0 Command: /home/biocbuild/bbs-3.22-bioc/R/bin/R CMD INSTALL coseq StartedAt: 2025-11-11 15:26:07 -0500 (Tue, 11 Nov 2025) EndedAt: 2025-11-11 15:26:38 -0500 (Tue, 11 Nov 2025) EllapsedTime: 31.6 seconds RetCode: 0 Status: OK