Package: coseq Version: 1.34.0 Command: /Library/Frameworks/R.framework/Resources/bin/R CMD INSTALL coseq StartedAt: 2025-11-03 15:26:36 -0500 (Mon, 03 Nov 2025) EndedAt: 2025-11-03 15:27:19 -0500 (Mon, 03 Nov 2025) EllapsedTime: 43.0 seconds RetCode: 0 Status: OK