Package: coseq Version: 1.34.0 Command: /Library/Frameworks/R.framework/Resources/bin/R CMD build --keep-empty-dirs --no-resave-data coseq StartedAt: 2025-11-03 16:35:14 -0500 (Mon, 03 Nov 2025) EndedAt: 2025-11-03 16:39:43 -0500 (Mon, 03 Nov 2025) EllapsedTime: 268.2 seconds RetCode: 0 Status: OK PackageFile: coseq_1.34.0.tar.gz PackageFileSize: 1.869 MiB