Package: coseq Version: 1.32.1 Command: /home/biocbuild/R/R/bin/R CMD INSTALL coseq StartedAt: 2025-10-09 20:33:54 -0000 (Thu, 09 Oct 2025) EndedAt: 2025-10-09 20:34:39 -0000 (Thu, 09 Oct 2025) EllapsedTime: 45.1 seconds RetCode: 0 Status: OK