Package: coseq Version: 1.32.1 Command: /home/biocbuild/R/R/bin/R CMD build --keep-empty-dirs --no-resave-data coseq StartedAt: 2025-10-09 23:52:24 -0000 (Thu, 09 Oct 2025) EndedAt: 2025-10-09 23:59:09 -0000 (Thu, 09 Oct 2025) EllapsedTime: 405.1 seconds RetCode: 0 Status: OK PackageFile: coseq_1.32.1.tar.gz PackageFileSize: 1.777 MiB