Package: corral Version: 1.20.0 Command: /home/biocbuild/bbs-3.22-bioc/R/bin/R CMD INSTALL corral StartedAt: 2025-11-02 15:47:55 -0500 (Sun, 02 Nov 2025) EndedAt: 2025-11-02 15:48:29 -0500 (Sun, 02 Nov 2025) EllapsedTime: 33.5 seconds RetCode: 0 Status: OK