Package: copa Version: 1.78.0 Command: /Library/Frameworks/R.framework/Resources/bin/R CMD INSTALL copa StartedAt: 2025-11-10 15:07:41 -0500 (Mon, 10 Nov 2025) EndedAt: 2025-11-10 15:07:43 -0500 (Mon, 10 Nov 2025) EllapsedTime: 1.9 seconds RetCode: 0 Status: OK