Package: copa Version: 1.78.0 Command: /Library/Frameworks/R.framework/Resources/bin/R CMD build --keep-empty-dirs --no-resave-data copa StartedAt: 2025-11-10 16:01:23 -0500 (Mon, 10 Nov 2025) EndedAt: 2025-11-10 16:01:28 -0500 (Mon, 10 Nov 2025) EllapsedTime: 5.1 seconds RetCode: 0 Status: OK PackageFile: copa_1.78.0.tar.gz PackageFileSize: 121 KiB