Package: conumee Version: 1.44.0 Command: /home/biocbuild/bbs-3.22-bioc/R/bin/R CMD build --keep-empty-dirs --no-resave-data --md5 conumee StartedAt: 2025-11-13 17:01:33 -0500 (Thu, 13 Nov 2025) EndedAt: 2025-11-13 17:08:13 -0500 (Thu, 13 Nov 2025) EllapsedTime: 400.3 seconds RetCode: 0 Status: OK PackageFile: conumee_1.44.0.tar.gz PackageFileSize: 1.249 MiB