Package: conumee Version: 1.44.0 Command: /Library/Frameworks/R.framework/Resources/bin/R CMD INSTALL conumee StartedAt: 2025-11-10 15:24:03 -0500 (Mon, 10 Nov 2025) EndedAt: 2025-11-10 15:25:47 -0500 (Mon, 10 Nov 2025) EllapsedTime: 104.2 seconds RetCode: 0 Status: OK